BEGIN:VCALENDAR
VERSION:2.0
PRODID:-//Rajdhani Mandir - ECPv6.15.20//NONSGML v1.0//EN
CALSCALE:GREGORIAN
METHOD:PUBLISH
X-ORIGINAL-URL:https://rajdhanimandir.org
X-WR-CALDESC:Events for Rajdhani Mandir
REFRESH-INTERVAL;VALUE=DURATION:PT1H
X-Robots-Tag:noindex
X-PUBLISHED-TTL:PT1H
BEGIN:VTIMEZONE
TZID:UTC
BEGIN:STANDARD
TZOFFSETFROM:+0000
TZOFFSETTO:+0000
TZNAME:UTC
DTSTART:20240101T000000
END:STANDARD
END:VTIMEZONE
BEGIN:VEVENT
DTSTART;TZID=UTC:20251101T090000
DTEND;TZID=UTC:20251101T170000
DTSTAMP:20260424T234535
CREATED:20251014T005331Z
LAST-MODIFIED:20251014T005331Z
UID:43264-1761987600-1762016400@rajdhanimandir.org
SUMMARY:Vedanta Shravana
DESCRIPTION:
URL:https://rajdhanimandir.org/event/vedanta-shravana/
CATEGORIES:Upcoming Events
ATTACH;FMTTYPE=image/jpeg:https://rajdhanimandir.org/wp-content/uploads/2025/10/VEDANΤΑ-.jpg
END:VEVENT
BEGIN:VEVENT
DTSTART;TZID=UTC:20251102T160000
DTEND;TZID=UTC:20251102T180000
DTSTAMP:20260424T234535
CREATED:20251022T011219Z
LAST-MODIFIED:20251022T011219Z
UID:43312-1762099200-1762106400@rajdhanimandir.org
SUMMARY:Sadabahaar Senior Group Meeting
DESCRIPTION:
URL:https://rajdhanimandir.org/event/sadabahaar-senior-group-meeting-21/
CATEGORIES:Upcoming Events
ATTACH;FMTTYPE=image/jpeg:https://rajdhanimandir.org/wp-content/uploads/2025/10/SrCiti_November-2-2025-page-001.jpg
END:VEVENT
BEGIN:VEVENT
DTSTART;TZID=UTC:20251105T180000
DTEND;TZID=UTC:20251105T210000
DTSTAMP:20260424T234535
CREATED:20251024T012808Z
LAST-MODIFIED:20251024T012808Z
UID:43327-1762365600-1762376400@rajdhanimandir.org
SUMMARY:Karthika Pournami Celebrations
DESCRIPTION:
URL:https://rajdhanimandir.org/event/karthika-pournami-celebrations-2/
CATEGORIES:Upcoming Events
ATTACH;FMTTYPE=image/jpeg:https://rajdhanimandir.org/wp-content/uploads/2025/10/Karthika-Pournami-2025.jpg
END:VEVENT
BEGIN:VEVENT
DTSTART;TZID=UTC:20251109T093000
DTEND;TZID=UTC:20251109T123000
DTSTAMP:20260424T234535
CREATED:20251014T004434Z
LAST-MODIFIED:20251024T013215Z
UID:43260-1762680600-1762691400@rajdhanimandir.org
SUMMARY:Shiva Parvathi Mata Kalyanam
DESCRIPTION:
URL:https://rajdhanimandir.org/event/lord-shiva-and-parvathi-kalyanam-2/
CATEGORIES:Upcoming Events
ATTACH;FMTTYPE=image/jpeg:https://rajdhanimandir.org/wp-content/uploads/2025/10/Shiva-Parvati-Kalyanam-2025-1-1.jpg
END:VEVENT
BEGIN:VEVENT
DTSTART;TZID=UTC:20251116T080000
DTEND;TZID=UTC:20251116T120000
DTSTAMP:20260424T234535
CREATED:20251014T011223Z
LAST-MODIFIED:20251014T012155Z
UID:43270-1763280000-1763294400@rajdhanimandir.org
SUMMARY:Swamy Ayyappa Puja - Mandala Aarambha Puja
DESCRIPTION:
URL:https://rajdhanimandir.org/event/swamy-ayyappa-puja-mandala-aarambha-puja/
CATEGORIES:Upcoming Events
ATTACH;FMTTYPE=image/jpeg:https://rajdhanimandir.org/wp-content/uploads/2025/10/Swamy-Ayyappa-Flyer-2025.jpg
END:VEVENT
BEGIN:VEVENT
DTSTART;TZID=UTC:20251116T193000
DTEND;TZID=UTC:20251116T210000
DTSTAMP:20260424T234535
CREATED:20251014T012554Z
LAST-MODIFIED:20251014T012554Z
UID:43272-1763321400-1763326800@rajdhanimandir.org
SUMMARY:Swamy Ayyappa Puja - Mandala Aarambha Puja - Bhajans
DESCRIPTION:
URL:https://rajdhanimandir.org/event/swamy-ayyappa-puja-mandala-aarambha-puja-bhajans/
CATEGORIES:Upcoming Events
ATTACH;FMTTYPE=image/jpeg:https://rajdhanimandir.org/wp-content/uploads/2025/10/Swamy-Ayyappa-Flyer-2025.jpg
END:VEVENT
BEGIN:VEVENT
DTSTART;TZID=UTC:20251122T110000
DTEND;TZID=UTC:20251122T130000
DTSTAMP:20260424T234535
CREATED:20251014T013231Z
LAST-MODIFIED:20251014T013231Z
UID:43274-1763809200-1763816400@rajdhanimandir.org
SUMMARY:Swamy Ayyappa Puja - Ayyappa Pooja & Abhishekam
DESCRIPTION:
URL:https://rajdhanimandir.org/event/swamy-ayyappa-puja-ayyappa-pooja-abhishekam/
CATEGORIES:Upcoming Events
ATTACH;FMTTYPE=image/jpeg:https://rajdhanimandir.org/wp-content/uploads/2025/10/Swamy-Ayyappa-Flyer-2025.jpg
END:VEVENT
BEGIN:VEVENT
DTSTART;TZID=UTC:20251123T090000
DTEND;TZID=UTC:20251123T133000
DTSTAMP:20260424T234535
CREATED:20251115T031346Z
LAST-MODIFIED:20251115T031346Z
UID:43390-1763888400-1763904600@rajdhanimandir.org
SUMMARY:Rajdhani Mandir Blood Drive
DESCRIPTION:
URL:https://rajdhanimandir.org/event/rajdhani-mandir-blood-drive-2/
CATEGORIES:Upcoming Events
ATTACH;FMTTYPE=image/jpeg:https://rajdhanimandir.org/wp-content/uploads/2025/11/Blood-Drive-8.5x11-page-001.jpg
END:VEVENT
BEGIN:VEVENT
DTSTART;TZID=UTC:20251124T110000
DTEND;TZID=UTC:20251125T120000
DTSTAMP:20260424T234535
CREATED:20251115T031912Z
LAST-MODIFIED:20251115T031912Z
UID:43392-1763982000-1764072000@rajdhanimandir.org
SUMMARY:Sita Ram Vivah and Akhand Ramayan Paath
DESCRIPTION:
URL:https://rajdhanimandir.org/event/sita-ram-vivah-and-akhand-ramayan-paath/
CATEGORIES:Upcoming Events
ATTACH;FMTTYPE=image/jpeg:https://rajdhanimandir.org/wp-content/uploads/2025/11/Vivah-Panchami-Ram-Sita-Nov-24-2025.jpg
END:VEVENT
BEGIN:VEVENT
DTSTART;TZID=UTC:20251129T110000
DTEND;TZID=UTC:20251129T130000
DTSTAMP:20260424T234535
CREATED:20251014T013648Z
LAST-MODIFIED:20251014T013831Z
UID:43276-1764414000-1764421200@rajdhanimandir.org
SUMMARY:Swamy Ayyappa Puja - Ayyappa Pooja & Abhishekam
DESCRIPTION:
URL:https://rajdhanimandir.org/event/swamy-ayyappa-puja-ayyappa-pooja-abhishekam-2/
CATEGORIES:Upcoming Events
ATTACH;FMTTYPE=image/jpeg:https://rajdhanimandir.org/wp-content/uploads/2025/10/Swamy-Ayyappa-Flyer-2025.jpg
END:VEVENT
END:VCALENDAR