BEGIN:VCALENDAR
VERSION:2.0
PRODID:-//Rajdhani Mandir - ECPv6.15.20//NONSGML v1.0//EN
CALSCALE:GREGORIAN
METHOD:PUBLISH
X-WR-CALNAME:Rajdhani Mandir
X-ORIGINAL-URL:https://rajdhanimandir.org
X-WR-CALDESC:Events for Rajdhani Mandir
REFRESH-INTERVAL;VALUE=DURATION:PT1H
X-Robots-Tag:noindex
X-PUBLISHED-TTL:PT1H
BEGIN:VTIMEZONE
TZID:UTC
BEGIN:STANDARD
TZOFFSETFROM:+0000
TZOFFSETTO:+0000
TZNAME:UTC
DTSTART:20240101T000000
END:STANDARD
END:VTIMEZONE
BEGIN:VEVENT
DTSTART;TZID=UTC:20251005T063000
DTEND;TZID=UTC:20251005T130000
DTSTAMP:20260425T013018
CREATED:20250911T005441Z
LAST-MODIFIED:20250911T005441Z
UID:43089-1759645800-1759669200@rajdhanimandir.org
SUMMARY:Chandi Homam
DESCRIPTION:
URL:https://rajdhanimandir.org/event/chandi-homam-2/
CATEGORIES:Upcoming Events
ATTACH;FMTTYPE=image/jpeg:https://rajdhanimandir.org/wp-content/uploads/2025/09/Chandi-Homam-Flyer-.jpg
END:VEVENT
BEGIN:VEVENT
DTSTART;TZID=UTC:20251005T110000
DTEND;TZID=UTC:20251005T190000
DTSTAMP:20260425T013018
CREATED:20250905T013951Z
LAST-MODIFIED:20250905T013951Z
UID:43072-1759662000-1759690800@rajdhanimandir.org
SUMMARY:Diwali Mela 2025
DESCRIPTION:
URL:https://rajdhanimandir.org/event/diwali-mela-2025/
CATEGORIES:Upcoming Events
ATTACH;FMTTYPE=image/jpeg:https://rajdhanimandir.org/wp-content/uploads/2025/09/Flyer-09-02-2025.jpg
END:VEVENT
BEGIN:VEVENT
DTSTART;TZID=UTC:20251012T160000
DTEND;TZID=UTC:20251012T180000
DTSTAMP:20260425T013018
CREATED:20250916T012457Z
LAST-MODIFIED:20250916T012457Z
UID:43116-1760284800-1760292000@rajdhanimandir.org
SUMMARY:Sadabahaar Senior Group Meeting
DESCRIPTION:
URL:https://rajdhanimandir.org/event/sadabahaar-senior-group-meeting-20/
CATEGORIES:Upcoming Events
ATTACH;FMTTYPE=image/jpeg:https://rajdhanimandir.org/wp-content/uploads/2025/09/SrCiti_October-12-2025.jpg
END:VEVENT
BEGIN:VEVENT
DTSTART;TZID=UTC:20251018T101500
DTEND;TZID=UTC:20251018T113000
DTSTAMP:20260425T013018
CREATED:20251014T005718Z
LAST-MODIFIED:20251014T005718Z
UID:43266-1760782500-1760787000@rajdhanimandir.org
SUMMARY:Shani Trayodashi
DESCRIPTION:
URL:https://rajdhanimandir.org/event/shani-trayodashi-2/
CATEGORIES:Upcoming Events
ATTACH;FMTTYPE=image/jpeg:https://rajdhanimandir.org/wp-content/uploads/2025/10/Shani-Trayodashi-2.jpg
END:VEVENT
BEGIN:VEVENT
DTSTART;TZID=UTC:20251027T193000
DTEND;TZID=UTC:20251027T210000
DTSTAMP:20260425T013018
CREATED:20251024T013105Z
LAST-MODIFIED:20251024T013105Z
UID:43329-1761593400-1761598800@rajdhanimandir.org
SUMMARY:Skanda Sashti
DESCRIPTION:
URL:https://rajdhanimandir.org/event/skanda-sashti/
CATEGORIES:Upcoming Events
ATTACH;FMTTYPE=image/jpeg:https://rajdhanimandir.org/wp-content/uploads/2025/10/Skanda-Sashti-flyer-2025-.jpg
END:VEVENT
END:VCALENDAR