BEGIN:VCALENDAR
VERSION:2.0
PRODID:-//Rajdhani Mandir - ECPv6.15.20//NONSGML v1.0//EN
CALSCALE:GREGORIAN
METHOD:PUBLISH
X-ORIGINAL-URL:https://rajdhanimandir.org
X-WR-CALDESC:Events for Rajdhani Mandir
REFRESH-INTERVAL;VALUE=DURATION:PT1H
X-Robots-Tag:noindex
X-PUBLISHED-TTL:PT1H
BEGIN:VTIMEZONE
TZID:UTC
BEGIN:STANDARD
TZOFFSETFROM:+0000
TZOFFSETTO:+0000
TZNAME:UTC
DTSTART:20240101T000000
END:STANDARD
END:VTIMEZONE
BEGIN:VEVENT
DTSTART;TZID=UTC:20250901T173000
DTEND;TZID=UTC:20250901T200000
DTSTAMP:20260425T121738
CREATED:20250628T175433Z
LAST-MODIFIED:20250810T132238Z
UID:42698-1756747800-1756756800@rajdhanimandir.org
SUMMARY:Seven-Day Shiv Mahapuran Katha By Dr. Ram Kamal Das Vedanti Ji
DESCRIPTION:
URL:https://rajdhanimandir.org/event/seven-day-shiv-mahapuran-katha-by-dr-ram-kamal-das-vedanti-ji-2/
CATEGORIES:Upcoming Events
ATTACH;FMTTYPE=image/jpeg:https://rajdhanimandir.org/wp-content/uploads/2025/08/Dr.-Vedanti-Aug-Sep-2025-Shiv-Puran.jpg
END:VEVENT
BEGIN:VEVENT
DTSTART;TZID=UTC:20250902T173000
DTEND;TZID=UTC:20250902T200000
DTSTAMP:20260425T121738
CREATED:20250628T175536Z
LAST-MODIFIED:20250810T132459Z
UID:42700-1756834200-1756843200@rajdhanimandir.org
SUMMARY:Seven-Day Shiv Mahapuran Katha By Dr. Ram Kamal Das Vedanti Ji
DESCRIPTION:
URL:https://rajdhanimandir.org/event/seven-day-shiv-mahapuran-katha-by-dr-ram-kamal-das-vedanti-ji-3/
CATEGORIES:Upcoming Events
ATTACH;FMTTYPE=image/jpeg:https://rajdhanimandir.org/wp-content/uploads/2025/08/Dr.-Vedanti-Aug-Sep-2025-Shiv-Puran.jpg
END:VEVENT
BEGIN:VEVENT
DTSTART;TZID=UTC:20250903T173000
DTEND;TZID=UTC:20250903T200000
DTSTAMP:20260425T121738
CREATED:20250628T175553Z
LAST-MODIFIED:20250810T132524Z
UID:42701-1756920600-1756929600@rajdhanimandir.org
SUMMARY:Seven-Day Shiv Mahapuran Katha By Dr. Ram Kamal Das Vedanti Ji
DESCRIPTION:
URL:https://rajdhanimandir.org/event/seven-day-shiv-mahapuran-katha-by-dr-ram-kamal-das-vedanti-ji-4/
CATEGORIES:Upcoming Events
ATTACH;FMTTYPE=image/jpeg:https://rajdhanimandir.org/wp-content/uploads/2025/08/Dr.-Vedanti-Aug-Sep-2025-Shiv-Puran.jpg
END:VEVENT
BEGIN:VEVENT
DTSTART;TZID=UTC:20250904T170000
DTEND;TZID=UTC:20250904T190000
DTSTAMP:20260425T121738
CREATED:20250628T175722Z
LAST-MODIFIED:20250810T132553Z
UID:42704-1757005200-1757012400@rajdhanimandir.org
SUMMARY:Seven-Day Shiv Mahapuran Katha By Dr. Ram Kamal Das Vedanti Ji
DESCRIPTION:
URL:https://rajdhanimandir.org/event/seven-day-shiv-mahapuran-katha-by-dr-ram-kamal-das-vedanti-ji-5/
CATEGORIES:Upcoming Events
ATTACH;FMTTYPE=image/jpeg:https://rajdhanimandir.org/wp-content/uploads/2025/08/Dr.-Vedanti-Aug-Sep-2025-Shiv-Puran.jpg
END:VEVENT
BEGIN:VEVENT
DTSTART;TZID=UTC:20250905T173000
DTEND;TZID=UTC:20250905T200000
DTSTAMP:20260425T121738
CREATED:20250628T175741Z
LAST-MODIFIED:20250810T132620Z
UID:42705-1757093400-1757102400@rajdhanimandir.org
SUMMARY:Seven-Day Shiv Mahapuran Katha By Dr. Ram Kamal Das Vedanti Ji
DESCRIPTION:
URL:https://rajdhanimandir.org/event/seven-day-shiv-mahapuran-katha-by-dr-ram-kamal-das-vedanti-ji-6/
CATEGORIES:Upcoming Events
ATTACH;FMTTYPE=image/jpeg:https://rajdhanimandir.org/wp-content/uploads/2025/08/Dr.-Vedanti-Aug-Sep-2025-Shiv-Puran.jpg
END:VEVENT
BEGIN:VEVENT
DTSTART;TZID=UTC:20250906T130000
DTEND;TZID=UTC:20250906T150000
DTSTAMP:20260425T121738
CREATED:20250905T013624Z
LAST-MODIFIED:20250905T013624Z
UID:43067-1757163600-1757170800@rajdhanimandir.org
SUMMARY:Youth Community Open House
DESCRIPTION:
URL:https://rajdhanimandir.org/event/youth-community-open-house/
CATEGORIES:Upcoming Events
ATTACH;FMTTYPE=image/jpeg:https://rajdhanimandir.org/wp-content/uploads/2025/09/Open-House-page-001.jpg
END:VEVENT
BEGIN:VEVENT
DTSTART;TZID=UTC:20250906T153000
DTEND;TZID=UTC:20250906T183000
DTSTAMP:20260425T121738
CREATED:20250628T175847Z
LAST-MODIFIED:20250810T132644Z
UID:42708-1757172600-1757183400@rajdhanimandir.org
SUMMARY:Seven-Day Shiv Mahapuran Katha By Dr. Ram Kamal Das Vedanti Ji
DESCRIPTION:
URL:https://rajdhanimandir.org/event/seven-day-shiv-mahapuran-katha-by-dr-ram-kamal-das-vedanti-ji-7/
CATEGORIES:Upcoming Events
ATTACH;FMTTYPE=image/jpeg:https://rajdhanimandir.org/wp-content/uploads/2025/08/Dr.-Vedanti-Aug-Sep-2025-Shiv-Puran.jpg
END:VEVENT
BEGIN:VEVENT
DTSTART;TZID=UTC:20250906T170000
DTEND;TZID=UTC:20250906T190000
DTSTAMP:20260425T121738
CREATED:20250828T014421Z
LAST-MODIFIED:20250905T013716Z
UID:43030-1757178000-1757185200@rajdhanimandir.org
SUMMARY:Grand Ganapati Visarjan with Dhol
DESCRIPTION:
URL:https://rajdhanimandir.org/event/grand-ganapati-visarjan-with-dhol/
CATEGORIES:Upcoming Events
ATTACH;FMTTYPE=image/jpeg:https://rajdhanimandir.org/wp-content/uploads/2025/09/Ganesh-Visarjan-Sep-6-2025-Ver2.jpg
END:VEVENT
BEGIN:VEVENT
DTSTART;VALUE=DATE:20250907
DTEND;VALUE=DATE:20250922
DTSTAMP:20260425T121738
CREATED:20250911T005611Z
LAST-MODIFIED:20250911T005634Z
UID:43091-1757203200-1758499199@rajdhanimandir.org
SUMMARY:Shradh Pitru Paksha
DESCRIPTION:
URL:https://rajdhanimandir.org/event/shradh-pitru-paksha/
CATEGORIES:Upcoming Events
ATTACH;FMTTYPE=image/jpeg:https://rajdhanimandir.org/wp-content/uploads/2025/09/Shradh-Pitrupaksha-2025-Ver2.jpg
END:VEVENT
BEGIN:VEVENT
DTSTART;TZID=UTC:20250907T160000
DTEND;TZID=UTC:20250907T180000
DTSTAMP:20260425T121738
CREATED:20250817T192137Z
LAST-MODIFIED:20250828T013712Z
UID:42993-1757260800-1757268000@rajdhanimandir.org
SUMMARY:Sadabahaar Senior Group Meeting
DESCRIPTION:
URL:https://rajdhanimandir.org/event/sadabahaar-senior-group-meeting-19/
CATEGORIES:Upcoming Events
ATTACH;FMTTYPE=image/jpeg:https://rajdhanimandir.org/wp-content/uploads/2025/08/SrCiti_September-7-2025-1.jpg
END:VEVENT
BEGIN:VEVENT
DTSTART;TZID=UTC:20250921T090000
DTEND;TZID=UTC:20250921T133000
DTSTAMP:20260425T121738
CREATED:20250918T013441Z
LAST-MODIFIED:20250918T013441Z
UID:43129-1758445200-1758461400@rajdhanimandir.org
SUMMARY:Blood Drive at Rajdhani Mandir
DESCRIPTION:
URL:https://rajdhanimandir.org/event/blood-drive-at-rajdhani-mandir/
CATEGORIES:Upcoming Events
ATTACH;FMTTYPE=image/jpeg:https://rajdhanimandir.org/wp-content/uploads/2025/09/Blood-Donation-Sep-21-2025.jpg
END:VEVENT
BEGIN:VEVENT
DTSTART;TZID=UTC:20250926T193000
DTEND;TZID=UTC:20250926T230000
DTSTAMP:20260425T121738
CREATED:20250911T005927Z
LAST-MODIFIED:20250918T013015Z
UID:43093-1758915000-1758927600@rajdhanimandir.org
SUMMARY:Special Navratri Mata Jagrans
DESCRIPTION:
URL:https://rajdhanimandir.org/event/special-navratri-mata-jagrans/
CATEGORIES:Upcoming Events
ATTACH;FMTTYPE=image/jpeg:https://rajdhanimandir.org/wp-content/uploads/2025/09/Navratre-Mata-Jagrans-Sep-15.jpg
END:VEVENT
BEGIN:VEVENT
DTSTART;TZID=UTC:20250927T193000
DTEND;TZID=UTC:20250927T230000
DTSTAMP:20260425T121738
CREATED:20250911T010004Z
LAST-MODIFIED:20250916T012936Z
UID:43095-1759001400-1759014000@rajdhanimandir.org
SUMMARY:Special Navratri Mata Jagrans
DESCRIPTION:
URL:https://rajdhanimandir.org/event/special-navratri-mata-jagrans-2/
CATEGORIES:Upcoming Events
ATTACH;FMTTYPE=image/jpeg:https://rajdhanimandir.org/wp-content/uploads/2025/09/Navratre-Mata-Jagrans-Sep-15.jpg
END:VEVENT
BEGIN:VEVENT
DTSTART;TZID=UTC:20250928T180000
DTEND;TZID=UTC:20250928T220000
DTSTAMP:20260425T121738
CREATED:20250911T010054Z
LAST-MODIFIED:20250916T012831Z
UID:43097-1759082400-1759096800@rajdhanimandir.org
SUMMARY:Special Navratri Mata Jagrans
DESCRIPTION:
URL:https://rajdhanimandir.org/event/special-navratri-mata-jagrans-3/
CATEGORIES:Upcoming Events
ATTACH;FMTTYPE=image/jpeg:https://rajdhanimandir.org/wp-content/uploads/2025/09/Navratre-Mata-Jagrans-Sep-15.jpg
END:VEVENT
END:VCALENDAR