BEGIN:VCALENDAR
VERSION:2.0
PRODID:-//Rajdhani Mandir - ECPv6.15.20//NONSGML v1.0//EN
CALSCALE:GREGORIAN
METHOD:PUBLISH
X-ORIGINAL-URL:https://rajdhanimandir.org
X-WR-CALDESC:Events for Rajdhani Mandir
REFRESH-INTERVAL;VALUE=DURATION:PT1H
X-Robots-Tag:noindex
X-PUBLISHED-TTL:PT1H
BEGIN:VTIMEZONE
TZID:UTC
BEGIN:STANDARD
TZOFFSETFROM:+0000
TZOFFSETTO:+0000
TZNAME:UTC
DTSTART:20250101T000000
END:STANDARD
END:VTIMEZONE
BEGIN:VEVENT
DTSTART;TZID=UTC:20260401T080000
DTEND;TZID=UTC:20260401T170000
DTSTAMP:20260424T232135
CREATED:20260321T135027Z
LAST-MODIFIED:20260325T122404Z
UID:43903-1775030400-1775062800@rajdhanimandir.org
SUMMARY:Hanuman Jayanti / Sundarkand Paath
DESCRIPTION:
URL:https://rajdhanimandir.org/event/hanuman-jayanti-sundarkand-paath/
CATEGORIES:Upcoming Events
ATTACH;FMTTYPE=image/jpeg:https://rajdhanimandir.org/wp-content/uploads/2026/03/SundarKand-Paath-Hanuman-Jayanti-2026.jpg
END:VEVENT
END:VCALENDAR