BEGIN:VCALENDAR
VERSION:2.0
PRODID:-//Rajdhani Mandir - ECPv6.15.20//NONSGML v1.0//EN
CALSCALE:GREGORIAN
METHOD:PUBLISH
X-WR-CALNAME:Rajdhani Mandir
X-ORIGINAL-URL:https://rajdhanimandir.org
X-WR-CALDESC:Events for Rajdhani Mandir
REFRESH-INTERVAL;VALUE=DURATION:PT1H
X-Robots-Tag:noindex
X-PUBLISHED-TTL:PT1H
BEGIN:VTIMEZONE
TZID:UTC
BEGIN:STANDARD
TZOFFSETFROM:+0000
TZOFFSETTO:+0000
TZNAME:UTC
DTSTART:20250101T000000
END:STANDARD
END:VTIMEZONE
BEGIN:VEVENT
DTSTART;TZID=UTC:20260325T120000
DTEND;TZID=UTC:20260326T120000
DTSTAMP:20260424T232513
CREATED:20260320T012056Z
LAST-MODIFIED:20260320T012518Z
UID:43886-1774440000-1774526400@rajdhanimandir.org
SUMMARY:Akahand Ramayan Paath (24-hour)
DESCRIPTION:
URL:https://rajdhanimandir.org/event/ramanavami-akahand-ramayan-paath/
CATEGORIES:Upcoming Events
ATTACH;FMTTYPE=image/jpeg:https://rajdhanimandir.org/wp-content/uploads/2026/03/Ramanavmi-Akahand-Ramayana-March-2025.jpg
END:VEVENT
BEGIN:VEVENT
DTSTART;TZID=UTC:20260325T190000
DTEND;TZID=UTC:20260325T213000
DTSTAMP:20260424T232513
CREATED:20260321T140504Z
LAST-MODIFIED:20260321T140504Z
UID:43909-1774465200-1774474200@rajdhanimandir.org
SUMMARY:Mata Jagrans - Sunita & Jeetendra Ahuja Family
DESCRIPTION:
URL:https://rajdhanimandir.org/event/mata-jagrans-sunita-jeetendra-ahuja-family/
CATEGORIES:Upcoming Events
ATTACH;FMTTYPE=image/jpeg:https://rajdhanimandir.org/wp-content/uploads/2026/03/Navratre-Mata-Jagran-Chaitra-March-2026-New-Combined.jpg
END:VEVENT
END:VCALENDAR