BEGIN:VCALENDAR
VERSION:2.0
PRODID:-//Rajdhani Mandir - ECPv6.15.20//NONSGML v1.0//EN
CALSCALE:GREGORIAN
METHOD:PUBLISH
X-WR-CALNAME:Rajdhani Mandir
X-ORIGINAL-URL:https://rajdhanimandir.org
X-WR-CALDESC:Events for Rajdhani Mandir
REFRESH-INTERVAL;VALUE=DURATION:PT1H
X-Robots-Tag:noindex
X-PUBLISHED-TTL:PT1H
BEGIN:VTIMEZONE
TZID:UTC
BEGIN:STANDARD
TZOFFSETFROM:+0000
TZOFFSETTO:+0000
TZNAME:UTC
DTSTART:20250101T000000
END:STANDARD
END:VTIMEZONE
BEGIN:VEVENT
DTSTART;TZID=UTC:20260322T090000
DTEND;TZID=UTC:20260322T133000
DTSTAMP:20260424T231413
CREATED:20260318T002323Z
LAST-MODIFIED:20260318T002323Z
UID:43871-1774170000-1774186200@rajdhanimandir.org
SUMMARY:Rajdhani Mandir Blood Drive
DESCRIPTION:
URL:https://rajdhanimandir.org/event/rajdhani-mandir-blood-drive-3/
CATEGORIES:Upcoming Events
ATTACH;FMTTYPE=image/png:https://rajdhanimandir.org/wp-content/uploads/2026/03/322-Blood-Drive.png
END:VEVENT
BEGIN:VEVENT
DTSTART;TZID=UTC:20260322T190000
DTEND;TZID=UTC:20260322T230000
DTSTAMP:20260424T231413
CREATED:20260306T013749Z
LAST-MODIFIED:20260321T140634Z
UID:43830-1774206000-1774220400@rajdhanimandir.org
SUMMARY:Mata Jagrans - Nishika & Deepak Bhanot Family
DESCRIPTION:
URL:https://rajdhanimandir.org/event/mata-jagrans-nishika-deepak-bhanot-family/
CATEGORIES:Upcoming Events
ATTACH;FMTTYPE=image/jpeg:https://rajdhanimandir.org/wp-content/uploads/2026/03/Navratre-Mata-Jagran-Chaitra-March-2026-New-Combined.jpg
END:VEVENT
END:VCALENDAR