BEGIN:VCALENDAR
VERSION:2.0
PRODID:-//Rajdhani Mandir - ECPv6.15.20//NONSGML v1.0//EN
CALSCALE:GREGORIAN
METHOD:PUBLISH
X-ORIGINAL-URL:https://rajdhanimandir.org
X-WR-CALDESC:Events for Rajdhani Mandir
REFRESH-INTERVAL;VALUE=DURATION:PT1H
X-Robots-Tag:noindex
X-PUBLISHED-TTL:PT1H
BEGIN:VTIMEZONE
TZID:UTC
BEGIN:STANDARD
TZOFFSETFROM:+0000
TZOFFSETTO:+0000
TZNAME:UTC
DTSTART:20250101T000000
END:STANDARD
END:VTIMEZONE
BEGIN:VEVENT
DTSTART;TZID=UTC:20260325T120000
DTEND;TZID=UTC:20260326T120000
DTSTAMP:20260424T182806
CREATED:20260320T012056Z
LAST-MODIFIED:20260320T012518Z
UID:43886-1774440000-1774526400@rajdhanimandir.org
SUMMARY:Akahand Ramayan Paath (24-hour)
DESCRIPTION:
URL:https://rajdhanimandir.org/event/ramanavami-akahand-ramayan-paath/
CATEGORIES:Upcoming Events
ATTACH;FMTTYPE=image/jpeg:https://rajdhanimandir.org/wp-content/uploads/2026/03/Ramanavmi-Akahand-Ramayana-March-2025.jpg
END:VEVENT
BEGIN:VEVENT
DTSTART;TZID=UTC:20260326T120000
DTEND;TZID=UTC:20260326T130000
DTSTAMP:20260424T182806
CREATED:20260320T012246Z
LAST-MODIFIED:20260320T012246Z
UID:43888-1774526400-1774530000@rajdhanimandir.org
SUMMARY:Ram Navami Janam Puja
DESCRIPTION:
URL:https://rajdhanimandir.org/event/ram-navami-janam-puja/
CATEGORIES:Upcoming Events
ATTACH;FMTTYPE=image/jpeg:https://rajdhanimandir.org/wp-content/uploads/2026/03/Ramanavmi-Akahand-Ramayana-March-2025.jpg
END:VEVENT
BEGIN:VEVENT
DTSTART;TZID=UTC:20260326T191500
DTEND;TZID=UTC:20260326T210000
DTSTAMP:20260424T182806
CREATED:20260215T210550Z
LAST-MODIFIED:20260224T022528Z
UID:43732-1774552500-1774558800@rajdhanimandir.org
SUMMARY:Sri Sita Rama Kalyanam
DESCRIPTION:
URL:https://rajdhanimandir.org/event/sri-sita-rama-kalyanam/
CATEGORIES:Upcoming Events
ATTACH;FMTTYPE=image/jpeg:https://rajdhanimandir.org/wp-content/uploads/2026/02/Sri-Rama-Kalyanam-March-26-ver2.jpg
END:VEVENT
END:VCALENDAR