BEGIN:VCALENDAR
VERSION:2.0
PRODID:-//Rajdhani Mandir - ECPv6.15.20//NONSGML v1.0//EN
CALSCALE:GREGORIAN
METHOD:PUBLISH
X-WR-CALNAME:Rajdhani Mandir
X-ORIGINAL-URL:https://rajdhanimandir.org
X-WR-CALDESC:Events for Rajdhani Mandir
REFRESH-INTERVAL;VALUE=DURATION:PT1H
X-Robots-Tag:noindex
X-PUBLISHED-TTL:PT1H
BEGIN:VTIMEZONE
TZID:UTC
BEGIN:STANDARD
TZOFFSETFROM:+0000
TZOFFSETTO:+0000
TZNAME:UTC
DTSTART:20250101T000000
END:STANDARD
END:VTIMEZONE
BEGIN:VEVENT
DTSTART;TZID=UTC:20260323T190000
DTEND;TZID=UTC:20260323T213000
DTSTAMP:20260424T182505
CREATED:20260306T013913Z
LAST-MODIFIED:20260321T140244Z
UID:43828-1774292400-1774301400@rajdhanimandir.org
SUMMARY:Mata Jagrans - Navneet Kaur & Balvinder Singh Family
DESCRIPTION:
URL:https://rajdhanimandir.org/event/mata-jagrans-navneet-kaur-balvinder-singh-family/
CATEGORIES:Upcoming Events
ATTACH;FMTTYPE=image/jpeg:https://rajdhanimandir.org/wp-content/uploads/2026/03/Navratre-Mata-Jagran-Chaitra-March-2026-New-Combined.jpg
END:VEVENT
END:VCALENDAR