BEGIN:VCALENDAR
VERSION:2.0
PRODID:-//Rajdhani Mandir - ECPv6.15.20//NONSGML v1.0//EN
CALSCALE:GREGORIAN
METHOD:PUBLISH
X-ORIGINAL-URL:https://rajdhanimandir.org
X-WR-CALDESC:Events for Rajdhani Mandir
REFRESH-INTERVAL;VALUE=DURATION:PT1H
X-Robots-Tag:noindex
X-PUBLISHED-TTL:PT1H
BEGIN:VTIMEZONE
TZID:UTC
BEGIN:STANDARD
TZOFFSETFROM:+0000
TZOFFSETTO:+0000
TZNAME:UTC
DTSTART:20250101T000000
END:STANDARD
END:VTIMEZONE
BEGIN:VEVENT
DTSTART;TZID=UTC:20260114T093000
DTEND;TZID=UTC:20260114T123000
DTSTAMP:20260424T220019
CREATED:20251014T015356Z
LAST-MODIFIED:20251014T015356Z
UID:43294-1768383000-1768393800@rajdhanimandir.org
SUMMARY:Swamy Ayyappa Puja – Makara Vilakku Mahotsavam
DESCRIPTION:
URL:https://rajdhanimandir.org/event/swamy-ayyappa-puja-makara-vilakku-mahotsavam/
CATEGORIES:Upcoming Events
ATTACH;FMTTYPE=image/jpeg:https://rajdhanimandir.org/wp-content/uploads/2025/10/Swamy-Ayyappa-Flyer-2025.jpg
END:VEVENT
BEGIN:VEVENT
DTSTART;TZID=UTC:20260114T193000
DTEND;TZID=UTC:20260114T204500
DTSTAMP:20260424T220019
CREATED:20251014T015438Z
LAST-MODIFIED:20251014T015438Z
UID:43296-1768419000-1768423500@rajdhanimandir.org
SUMMARY:Swamy Ayyappa Puja – Makara Vilakku Mahotsavam
DESCRIPTION:
URL:https://rajdhanimandir.org/event/swamy-ayyappa-puja-makara-vilakku-mahotsavam-2/
CATEGORIES:Upcoming Events
ATTACH;FMTTYPE=image/jpeg:https://rajdhanimandir.org/wp-content/uploads/2025/10/Swamy-Ayyappa-Flyer-2025.jpg
END:VEVENT
END:VCALENDAR