BEGIN:VCALENDAR
VERSION:2.0
PRODID:-//Rajdhani Mandir - ECPv6.15.20//NONSGML v1.0//EN
CALSCALE:GREGORIAN
METHOD:PUBLISH
X-ORIGINAL-URL:https://rajdhanimandir.org
X-WR-CALDESC:Events for Rajdhani Mandir
REFRESH-INTERVAL;VALUE=DURATION:PT1H
X-Robots-Tag:noindex
X-PUBLISHED-TTL:PT1H
BEGIN:VTIMEZONE
TZID:UTC
BEGIN:STANDARD
TZOFFSETFROM:+0000
TZOFFSETTO:+0000
TZNAME:UTC
DTSTART:20250101T000000
END:STANDARD
END:VTIMEZONE
BEGIN:VEVENT
DTSTART;TZID=UTC:20260104T160000
DTEND;TZID=UTC:20260104T180000
DTSTAMP:20260424T215946
CREATED:20251220T011445Z
LAST-MODIFIED:20251220T011445Z
UID:43487-1767542400-1767549600@rajdhanimandir.org
SUMMARY:Sadabahaar Senior Group Meeting
DESCRIPTION:
URL:https://rajdhanimandir.org/event/sadabahaar-senior-group-meeting-22/
CATEGORIES:Upcoming Events
ATTACH;FMTTYPE=image/jpeg:https://rajdhanimandir.org/wp-content/uploads/2025/12/SrCiti_January-4-2026.jpg
END:VEVENT
END:VCALENDAR