BEGIN:VCALENDAR
VERSION:2.0
PRODID:-//Rajdhani Mandir - ECPv6.15.20//NONSGML v1.0//EN
CALSCALE:GREGORIAN
METHOD:PUBLISH
X-WR-CALNAME:Rajdhani Mandir
X-ORIGINAL-URL:https://rajdhanimandir.org
X-WR-CALDESC:Events for Rajdhani Mandir
REFRESH-INTERVAL;VALUE=DURATION:PT1H
X-Robots-Tag:noindex
X-PUBLISHED-TTL:PT1H
BEGIN:VTIMEZONE
TZID:UTC
BEGIN:STANDARD
TZOFFSETFROM:+0000
TZOFFSETTO:+0000
TZNAME:UTC
DTSTART:20240101T000000
END:STANDARD
END:VTIMEZONE
BEGIN:VEVENT
DTSTART;TZID=UTC:20251211T200000
DTEND;TZID=UTC:20251211T201500
DTSTAMP:20260424T234313
CREATED:20251014T014715Z
LAST-MODIFIED:20251014T014716Z
UID:43288-1765483200-1765484100@rajdhanimandir.org
SUMMARY:Swamy Ayyappa Puja – Uttara Phalguni Nakshatra Puja
DESCRIPTION:
URL:https://rajdhanimandir.org/event/swamy-ayyappa-puja-uttara-phalguni-nakshatra-puja/
CATEGORIES:Upcoming Events
ATTACH;FMTTYPE=image/jpeg:https://rajdhanimandir.org/wp-content/uploads/2025/10/Swamy-Ayyappa-Flyer-2025.jpg
END:VEVENT
END:VCALENDAR