BEGIN:VCALENDAR
VERSION:2.0
PRODID:-//Rajdhani Mandir - ECPv6.15.20//NONSGML v1.0//EN
CALSCALE:GREGORIAN
METHOD:PUBLISH
X-WR-CALNAME:Rajdhani Mandir
X-ORIGINAL-URL:https://rajdhanimandir.org
X-WR-CALDESC:Events for Rajdhani Mandir
REFRESH-INTERVAL;VALUE=DURATION:PT1H
X-Robots-Tag:noindex
X-PUBLISHED-TTL:PT1H
BEGIN:VTIMEZONE
TZID:UTC
BEGIN:STANDARD
TZOFFSETFROM:+0000
TZOFFSETTO:+0000
TZNAME:UTC
DTSTART:20240101T000000
END:STANDARD
END:VTIMEZONE
BEGIN:VEVENT
DTSTART;TZID=UTC:20251018T101500
DTEND;TZID=UTC:20251018T113000
DTSTAMP:20260425T031547
CREATED:20251014T005718Z
LAST-MODIFIED:20251014T005718Z
UID:43266-1760782500-1760787000@rajdhanimandir.org
SUMMARY:Shani Trayodashi
DESCRIPTION:
URL:https://rajdhanimandir.org/event/shani-trayodashi-2/
CATEGORIES:Upcoming Events
ATTACH;FMTTYPE=image/jpeg:https://rajdhanimandir.org/wp-content/uploads/2025/10/Shani-Trayodashi-2.jpg
END:VEVENT
END:VCALENDAR