BEGIN:VCALENDAR
VERSION:2.0
PRODID:-//Rajdhani Mandir - ECPv6.15.20//NONSGML v1.0//EN
CALSCALE:GREGORIAN
METHOD:PUBLISH
X-ORIGINAL-URL:https://rajdhanimandir.org
X-WR-CALDESC:Events for Rajdhani Mandir
REFRESH-INTERVAL;VALUE=DURATION:PT1H
X-Robots-Tag:noindex
X-PUBLISHED-TTL:PT1H
BEGIN:VTIMEZONE
TZID:UTC
BEGIN:STANDARD
TZOFFSETFROM:+0000
TZOFFSETTO:+0000
TZNAME:UTC
DTSTART:20240101T000000
END:STANDARD
END:VTIMEZONE
BEGIN:VEVENT
DTSTART;TZID=UTC:20250628T174500
DTEND;TZID=UTC:20250628T190000
DTSTAMP:20260425T120255
CREATED:20250621T211855Z
LAST-MODIFIED:20250621T211856Z
UID:42681-1751132700-1751137200@rajdhanimandir.org
SUMMARY:Discourse on Gita By Swami Gyananand Ji Maharaj
DESCRIPTION:
URL:https://rajdhanimandir.org/event/discourse-on-gita-by-swami-gyananand-ji-maharaj/
CATEGORIES:Upcoming Events
ATTACH;FMTTYPE=image/jpeg:https://rajdhanimandir.org/wp-content/uploads/2025/06/Gyananand-Ji-June-28-2025.jpg
END:VEVENT
END:VCALENDAR