BEGIN:VCALENDAR
VERSION:2.0
PRODID:-//Rajdhani Mandir - ECPv6.15.20//NONSGML v1.0//EN
CALSCALE:GREGORIAN
METHOD:PUBLISH
X-WR-CALNAME:Rajdhani Mandir
X-ORIGINAL-URL:https://rajdhanimandir.org
X-WR-CALDESC:Events for Rajdhani Mandir
REFRESH-INTERVAL;VALUE=DURATION:PT1H
X-Robots-Tag:noindex
X-PUBLISHED-TTL:PT1H
BEGIN:VTIMEZONE
TZID:UTC
BEGIN:STANDARD
TZOFFSETFROM:+0000
TZOFFSETTO:+0000
TZNAME:UTC
DTSTART:20240101T000000
END:STANDARD
END:VTIMEZONE
BEGIN:VEVENT
DTSTART;TZID=UTC:20250608T110000
DTEND;TZID=UTC:20250608T130000
DTSTAMP:20260425T102203
CREATED:20250607T073127Z
LAST-MODIFIED:20250607T073128Z
UID:42626-1749380400-1749387600@rajdhanimandir.org
SUMMARY:Special Sundarkand Paath
DESCRIPTION:
URL:https://rajdhanimandir.org/event/special-sundarkand-paath-4/
CATEGORIES:Upcoming Events
ATTACH;FMTTYPE=image/jpeg:https://rajdhanimandir.org/wp-content/uploads/2025/06/SundarKand-Paath-Gulati-June-8th-2025.jpg
END:VEVENT
END:VCALENDAR