BEGIN:VCALENDAR
VERSION:2.0
PRODID:-//Rajdhani Mandir - ECPv6.15.20//NONSGML v1.0//EN
CALSCALE:GREGORIAN
METHOD:PUBLISH
X-WR-CALNAME:Rajdhani Mandir
X-ORIGINAL-URL:https://rajdhanimandir.org
X-WR-CALDESC:Events for Rajdhani Mandir
REFRESH-INTERVAL;VALUE=DURATION:PT1H
X-Robots-Tag:noindex
X-PUBLISHED-TTL:PT1H
BEGIN:VTIMEZONE
TZID:UTC
BEGIN:STANDARD
TZOFFSETFROM:+0000
TZOFFSETTO:+0000
TZNAME:UTC
DTSTART:20240101T000000
END:STANDARD
END:VTIMEZONE
BEGIN:VEVENT
DTSTART;TZID=UTC:20250603T170000
DTEND;TZID=UTC:20250603T190000
DTSTAMP:20260425T102320
CREATED:20250603T170542Z
LAST-MODIFIED:20250603T170543Z
UID:42601-1748970000-1748977200@rajdhanimandir.org
SUMMARY:Special Sundarkand Paath
DESCRIPTION:
URL:https://rajdhanimandir.org/event/special-sundarkand-paath-3/
CATEGORIES:Upcoming Events
ATTACH;FMTTYPE=image/jpeg:https://rajdhanimandir.org/wp-content/uploads/2025/06/SundarKand-Paath-June-3-2025-Taru-and-Neeraj-Sharma.jpg
END:VEVENT
END:VCALENDAR