BEGIN:VCALENDAR
VERSION:2.0
PRODID:-//Rajdhani Mandir - ECPv6.15.20//NONSGML v1.0//EN
CALSCALE:GREGORIAN
METHOD:PUBLISH
X-WR-CALNAME:Rajdhani Mandir
X-ORIGINAL-URL:https://rajdhanimandir.org
X-WR-CALDESC:Events for Rajdhani Mandir
REFRESH-INTERVAL;VALUE=DURATION:PT1H
X-Robots-Tag:noindex
X-PUBLISHED-TTL:PT1H
BEGIN:VTIMEZONE
TZID:UTC
BEGIN:STANDARD
TZOFFSETFROM:+0000
TZOFFSETTO:+0000
TZNAME:UTC
DTSTART:20240101T000000
END:STANDARD
END:VTIMEZONE
BEGIN:VEVENT
DTSTART;TZID=UTC:20250601T120000
DTEND;TZID=UTC:20250601T130000
DTSTAMP:20260425T102203
CREATED:20250514T004428Z
LAST-MODIFIED:20250514T004428Z
UID:42518-1748779200-1748782800@rajdhanimandir.org
SUMMARY:Sri Krishna Katha By Shri Ram Govind Das
DESCRIPTION:
URL:https://rajdhanimandir.org/event/sri-krishna-katha-by-shri-ram-govind-das/
CATEGORIES:Upcoming Events
ATTACH;FMTTYPE=image/jpeg:https://rajdhanimandir.org/wp-content/uploads/2025/05/Swami-Ram-Govind-Das-1st-June-2025.jpeg
END:VEVENT
BEGIN:VEVENT
DTSTART;TZID=UTC:20250601T160000
DTEND;TZID=UTC:20250601T180000
DTSTAMP:20260425T102203
CREATED:20250511T145636Z
LAST-MODIFIED:20250511T145636Z
UID:42504-1748793600-1748800800@rajdhanimandir.org
SUMMARY:Sadabahaar Senior Group Meeting
DESCRIPTION:
URL:https://rajdhanimandir.org/event/sadabahaar-senior-group-meeting-17/
CATEGORIES:Upcoming Events
ATTACH;FMTTYPE=image/jpeg:https://rajdhanimandir.org/wp-content/uploads/2025/05/SrCiti_June-1-2025.jpg
END:VEVENT
END:VCALENDAR