BEGIN:VCALENDAR
VERSION:2.0
PRODID:-//Rajdhani Mandir - ECPv6.15.20//NONSGML v1.0//EN
CALSCALE:GREGORIAN
METHOD:PUBLISH
X-WR-CALNAME:Rajdhani Mandir
X-ORIGINAL-URL:https://rajdhanimandir.org
X-WR-CALDESC:Events for Rajdhani Mandir
REFRESH-INTERVAL;VALUE=DURATION:PT1H
X-Robots-Tag:noindex
X-PUBLISHED-TTL:PT1H
BEGIN:VTIMEZONE
TZID:UTC
BEGIN:STANDARD
TZOFFSETFROM:+0000
TZOFFSETTO:+0000
TZNAME:UTC
DTSTART:20240101T000000
END:STANDARD
END:VTIMEZONE
BEGIN:VEVENT
DTSTART;VALUE=DATE:20250524
DTEND;VALUE=DATE:20250526
DTSTAMP:20260425T120109
CREATED:20250201T024930Z
LAST-MODIFIED:20250215T231907Z
UID:42172-1748044800-1748217599@rajdhanimandir.org
SUMMARY:Maharudram
DESCRIPTION:
URL:https://rajdhanimandir.org/event/maharudram/
CATEGORIES:Upcoming Events
ATTACH;FMTTYPE=image/jpeg:https://rajdhanimandir.org/wp-content/uploads/2025/02/Maharudram-2025_1.jpg
END:VEVENT
BEGIN:VEVENT
DTSTART;VALUE=DATE:20250524
DTEND;VALUE=DATE:20250526
DTSTAMP:20260425T120109
CREATED:20250505T015349Z
LAST-MODIFIED:20250505T015542Z
UID:42484-1748044800-1748217599@rajdhanimandir.org
SUMMARY:Maharudram Rituals Schedule
DESCRIPTION:
URL:https://rajdhanimandir.org/event/maharudram-rituals-schedule/
CATEGORIES:Upcoming Events
ATTACH;FMTTYPE=image/jpeg:https://rajdhanimandir.org/wp-content/uploads/2025/05/Maharudram-Event_Schedule-page-001-scaled.jpg
END:VEVENT
END:VCALENDAR